BEGIN:VCALENDAR
VERSION:2.0
PRODID:-//South Walton Dance Company - ECPv6.15.18//NONSGML v1.0//EN
CALSCALE:GREGORIAN
METHOD:PUBLISH
X-WR-CALNAME:South Walton Dance Company
X-ORIGINAL-URL:https://swdance.armlindev.com
X-WR-CALDESC:Events for South Walton Dance Company
REFRESH-INTERVAL;VALUE=DURATION:PT1H
X-Robots-Tag:noindex
X-PUBLISHED-TTL:PT1H
BEGIN:VTIMEZONE
TZID:UTC
BEGIN:STANDARD
TZOFFSETFROM:+0000
TZOFFSETTO:+0000
TZNAME:UTC
DTSTART:20250101T000000
END:STANDARD
END:VTIMEZONE
BEGIN:VEVENT
DTSTART;TZID=UTC:20260221T131500
DTEND;TZID=UTC:20260221T143000
DTSTAMP:20260425T132813
CREATED:20260211T212925Z
LAST-MODIFIED:20260211T212925Z
UID:302-1771679700-1771684200@swdance.armlindev.com
SUMMARY:Saturday Feb 21st- Ages 13+
DESCRIPTION:Kylie Douglas\nTrain directly with Kylie in a high energy\, inspiring session that blends artistry\, technique\, and performance. \nCost $45.\nAges 13 – 99
URL:https://swdance.armlindev.com/event/saturday-feb-21st-ages-13/
LOCATION:SWDC | Freeport FL\, 1255 Old Jolly Bay Rd b102\, Freeport\, FL\, 32439\, United States
ATTACH;FMTTYPE=image/png:https://swdance.armlindev.com/wp-content/uploads/2026/02/475970319_931708518943349_7311518989250543447_n.png
END:VEVENT
BEGIN:VEVENT
DTSTART;TZID=UTC:20260221T113000
DTEND;TZID=UTC:20260221T124500
DTSTAMP:20260425T132813
CREATED:20260211T212813Z
LAST-MODIFIED:20260211T212813Z
UID:299-1771673400-1771677900@swdance.armlindev.com
SUMMARY:Saturday Feb 21st- Ages 10-13
DESCRIPTION:Kylie Douglas\nTrain directly with Kylie in a high energy\, inspiring session that blends artistry\, technique\, and performance. \nCost $45\nAges 10 – 13
URL:https://swdance.armlindev.com/event/saturday-feb-21st-ages-10-13/
LOCATION:SWDC | Freeport FL\, 1255 Old Jolly Bay Rd b102\, Freeport\, FL\, 32439\, United States
ATTACH;FMTTYPE=image/png:https://swdance.armlindev.com/wp-content/uploads/2026/02/476291741_931088139005387_410405736953790548_n.png
END:VEVENT
BEGIN:VEVENT
DTSTART;TZID=UTC:20260221T100000
DTEND;TZID=UTC:20260221T110000
DTSTAMP:20260425T132813
CREATED:20260211T211825Z
LAST-MODIFIED:20260211T211825Z
UID:294-1771668000-1771671600@swdance.armlindev.com
SUMMARY:Saturday Feb 21st- Ages 6-10
DESCRIPTION:Kylie Douglas\nTrain directly with Kylie in a high energy\, inspiring session that blends artistry\, technique\, and performance. \nCost $45\nAges 6 – 10
URL:https://swdance.armlindev.com/event/saturday-feb-21st-ages-6-10/
LOCATION:SWDC | Freeport FL\, 1255 Old Jolly Bay Rd b102\, Freeport\, FL\, 32439\, United States
ATTACH;FMTTYPE=image/png:https://swdance.armlindev.com/wp-content/uploads/2026/02/503897821_1013898994057634_225305604929231091_n.png
END:VEVENT
BEGIN:VEVENT
DTSTART;TZID=UTC:20260220T170000
DTEND;TZID=UTC:20260220T181500
DTSTAMP:20260425T132813
CREATED:20260211T202948Z
LAST-MODIFIED:20260211T204438Z
UID:278-1771606800-1771611300@swdance.armlindev.com
SUMMARY:Friday Feb 20th-Advanced-Ages 12+
DESCRIPTION:Train directly with Kylie in a high energy\, inspiring session that blends artistry\, technique\, and performance.\nCost $45\nFor double the opportunity to train\, refine and connect with Kylie\, come back for a second class on Saturday for just $35 more.\nContact info@sowaldance.com for promo code.\nAges 13 – 99
URL:https://swdance.armlindev.com/event/friday-feb-20th-advanced-ages-12/
LOCATION:SWDC | Freeport FL\, 1255 Old Jolly Bay Rd b102\, Freeport\, FL\, 32439\, United States
ATTACH;FMTTYPE=image/png:https://swdance.armlindev.com/wp-content/uploads/2026/02/476007776_932936112153923_3018550791396718095_n-1.png
END:VEVENT
END:VCALENDAR