BEGIN:VCALENDAR
VERSION:2.0
PRODID:-//South Walton Dance Company - ECPv6.15.18//NONSGML v1.0//EN
CALSCALE:GREGORIAN
METHOD:PUBLISH
X-WR-CALNAME:South Walton Dance Company
X-ORIGINAL-URL:https://swdance.armlindev.com
X-WR-CALDESC:Events for South Walton Dance Company
REFRESH-INTERVAL;VALUE=DURATION:PT1H
X-Robots-Tag:noindex
X-PUBLISHED-TTL:PT1H
BEGIN:VTIMEZONE
TZID:UTC
BEGIN:STANDARD
TZOFFSETFROM:+0000
TZOFFSETTO:+0000
TZNAME:UTC
DTSTART:20250101T000000
END:STANDARD
END:VTIMEZONE
BEGIN:VEVENT
DTSTART;TZID=UTC:20260425T140000
DTEND;TZID=UTC:20260425T170000
DTSTAMP:20260425T133529
CREATED:20260325T193738Z
LAST-MODIFIED:20260326T183707Z
UID:579-1777125600-1777136400@swdance.armlindev.com
SUMMARY:2026 Spring Showcase
DESCRIPTION:Looking to Purchase Tickets?\nClick here to Purchase Tickets \n\n\n\nGather your loved ones and join us for South Walton Dance Company’s Spring Showcase\, ‘Infinite Emotions’ on Saturday\, April 25th\, 2025\, at 2:00 PM. This Spring we will be spreading joy at South Walton High School. Enjoy an afternoon filled with festive music\, beautiful choreography\, and incredible heartwarming performances from our dancers as we bring movie-like magic to the stage.  \nTickets will also be available at the door for $20 for adults & $10 for children\, pre-order today to save! \nBrighten their big day! Pre-order flowers and a t-shirt with your dancer’s name on the back to celebrate their performance.\nPre-Order Gifts Here
URL:https://swdance.armlindev.com/event/2026-spring-showcase/
LOCATION:South Walton High School\, 645 Greenway Trail\, Santa Rosa Beach\, Florida\, 32459\, United States
ATTACH;FMTTYPE=image/avif:https://swdance.armlindev.com/wp-content/uploads/2026/03/Copy-of-Spring-2026-1.avif
END:VEVENT
END:VCALENDAR